BEGIN:VCALENDAR
VERSION:2.0
PRODID:-//Museo della Narrazione - APS - ECPv6.15.20//NONSGML v1.0//EN
CALSCALE:GREGORIAN
METHOD:PUBLISH
X-ORIGINAL-URL:https://museodellanarrazione.it
X-WR-CALDESC:Eventi per Museo della Narrazione - APS
REFRESH-INTERVAL;VALUE=DURATION:PT1H
X-Robots-Tag:noindex
X-PUBLISHED-TTL:PT1H
BEGIN:VTIMEZONE
TZID:Europe/Rome
BEGIN:DAYLIGHT
TZOFFSETFROM:+0100
TZOFFSETTO:+0200
TZNAME:CEST
DTSTART:20250330T010000
END:DAYLIGHT
BEGIN:STANDARD
TZOFFSETFROM:+0200
TZOFFSETTO:+0100
TZNAME:CET
DTSTART:20251026T010000
END:STANDARD
BEGIN:DAYLIGHT
TZOFFSETFROM:+0100
TZOFFSETTO:+0200
TZNAME:CEST
DTSTART:20260329T010000
END:DAYLIGHT
BEGIN:STANDARD
TZOFFSETFROM:+0200
TZOFFSETTO:+0100
TZNAME:CET
DTSTART:20261025T010000
END:STANDARD
BEGIN:DAYLIGHT
TZOFFSETFROM:+0100
TZOFFSETTO:+0200
TZNAME:CEST
DTSTART:20270328T010000
END:DAYLIGHT
BEGIN:STANDARD
TZOFFSETFROM:+0200
TZOFFSETTO:+0100
TZNAME:CET
DTSTART:20271031T010000
END:STANDARD
END:VTIMEZONE
BEGIN:VEVENT
DTSTART;TZID=Europe/Rome:20260319T204500
DTEND;TZID=Europe/Rome:20260319T230000
DTSTAMP:20260423T235326
CREATED:20260305T094604Z
LAST-MODIFIED:20260312T184938Z
UID:6224-1773953100-1773961200@museodellanarrazione.it
SUMMARY:«Un amore vero» lettura ad alta voce
DESCRIPTION:All’interno della rassegna di letture ad alta voce “like Amore” la storia di una relazione tra un computer dotato di una intelligenza artificiale davvero speciale e il suo utente programmatore… un esempio\, divertente e drammatico allo stesso tempo\, di come la generazioni Y e Z affrontano le relazioni amorose.\nIdealismo\, paura\, libertà personale e situationship per evitare sofferenze. L’impatto della tecnologia su problemi come ansia da prestazione\, paura del rifiuto\, abitudine al breadcrumbing (segnali sporadici\, ndr) e la difficoltà di gestire impegni a lungo termine. \nCon l’accompagnamento della musica suonata dal vivo da Riccardo De Felice\, il testo è letto da Sandra Salvato e Francesco Lunardi ed è ispirato al racconto di Isaac Asimov “Vero Amore” (1977\, Mondadori).
URL:https://museodellanarrazione.it/event/un-amore-vero/
LOCATION:MUNAR\, Via Vittorio Emanuele II\, 192/b\, Firenze\, Italy
CATEGORIES:Lettura
ATTACH;FMTTYPE=image/jpeg:https://museodellanarrazione.it/munar_set/wp-content/uploads/2026/03/banner_UnVeroAmore_1000x560px-approvato.jpg
END:VEVENT
END:VCALENDAR